BEGIN:VCALENDAR
VERSION:2.0
PRODID:-//Matteo Charlie Ichino - ECPv6.15.20//NONSGML v1.0//EN
CALSCALE:GREGORIAN
METHOD:PUBLISH
X-ORIGINAL-URL:https://matteoichino.com
X-WR-CALDESC:Events for Matteo Charlie Ichino
REFRESH-INTERVAL;VALUE=DURATION:PT1H
X-Robots-Tag:noindex
X-PUBLISHED-TTL:PT1H
BEGIN:VTIMEZONE
TZID:UTC
BEGIN:STANDARD
TZOFFSETFROM:+0000
TZOFFSETTO:+0000
TZNAME:UTC
DTSTART:20180101T000000
END:STANDARD
END:VTIMEZONE
BEGIN:VEVENT
DTSTART;TZID=UTC:20200320T190000
DTEND;TZID=UTC:20200322T190000
DTSTAMP:20260423T190701
CREATED:20191206T130451Z
LAST-MODIFIED:20191206T130451Z
UID:261-1584730800-1584903600@matteoichino.com
SUMMARY:Corso Regata - Racing weekend 3
DESCRIPTION:
URL:https://matteoichino.com/event/corso-regata-racing-weekend-3/
END:VEVENT
BEGIN:VEVENT
DTSTART;TZID=UTC:20200306T190000
DTEND;TZID=UTC:20200308T190000
DTSTAMP:20260423T190701
CREATED:20191206T130346Z
LAST-MODIFIED:20191206T130346Z
UID:259-1583521200-1583694000@matteoichino.com
SUMMARY:Corso Regata - Racing weekend 2
DESCRIPTION:
URL:https://matteoichino.com/event/corso-regata-racing-weekend-2/
END:VEVENT
BEGIN:VEVENT
DTSTART;TZID=UTC:20200227T080000
DTEND;TZID=UTC:20200228T190000
DTSTAMP:20260423T190701
CREATED:20200221T111528Z
LAST-MODIFIED:20200221T111528Z
UID:386-1582790400-1582916400@matteoichino.com
SUMMARY:Consultancy @ Ancona
DESCRIPTION:
URL:https://matteoichino.com/event/consultancy-ancona/
END:VEVENT
BEGIN:VEVENT
DTSTART;TZID=UTC:20200224T080000
DTEND;TZID=UTC:20200226T190000
DTSTAMP:20260423T190701
CREATED:20200221T111315Z
LAST-MODIFIED:20200221T111315Z
UID:384-1582531200-1582743600@matteoichino.com
SUMMARY:Consultancy @ Marinanova
DESCRIPTION:
URL:https://matteoichino.com/event/consultancy-marinanova/
END:VEVENT
BEGIN:VEVENT
DTSTART;TZID=UTC:20200221T190000
DTEND;TZID=UTC:20200223T190000
DTSTAMP:20260423T190701
CREATED:20191206T130246Z
LAST-MODIFIED:20191206T130246Z
UID:257-1582311600-1582484400@matteoichino.com
SUMMARY:Corso Regata - Racing weekend 1
DESCRIPTION:
URL:https://matteoichino.com/event/corso-regata-racing-weekend-1/
END:VEVENT
BEGIN:VEVENT
DTSTART;TZID=UTC:20200207T190000
DTEND;TZID=UTC:20200209T190000
DTSTAMP:20260423T190701
CREATED:20191206T130116Z
LAST-MODIFIED:20191206T130116Z
UID:255-1581102000-1581274800@matteoichino.com
SUMMARY:Corso Regata - Training weekend 2
DESCRIPTION:
URL:https://matteoichino.com/event/corso-regata-training-weekend-2/
END:VEVENT
BEGIN:VEVENT
DTSTART;TZID=UTC:20200124T190000
DTEND;TZID=UTC:20200126T190000
DTSTAMP:20260423T190701
CREATED:20191206T125936Z
LAST-MODIFIED:20191206T125936Z
UID:253-1579892400-1580065200@matteoichino.com
SUMMARY:Corso Regata - Training weekend 1
DESCRIPTION:
URL:https://matteoichino.com/event/corso-regata-training-weekend-1/
END:VEVENT
BEGIN:VEVENT
DTSTART;TZID=UTC:20191226T080000
DTEND;TZID=UTC:20200106T200000
DTSTAMP:20260423T190701
CREATED:20191206T125559Z
LAST-MODIFIED:20191206T125559Z
UID:249-1577347200-1578340800@matteoichino.com
SUMMARY:New Year's Cruise
DESCRIPTION:
URL:https://matteoichino.com/event/new-years-cruise/
LOCATION:Arcipelago Toscano\, Italy
END:VEVENT
BEGIN:VEVENT
DTSTART;TZID=UTC:20191209T080000
DTEND;TZID=UTC:20191209T180000
DTSTAMP:20260423T190701
CREATED:20191208T221344Z
LAST-MODIFIED:20191208T221344Z
UID:294-1575878400-1575914400@matteoichino.com
SUMMARY:Rigging
DESCRIPTION:
URL:https://matteoichino.com/event/rigging/
END:VEVENT
END:VCALENDAR